BEGIN:VCALENDAR
VERSION:2.0
PRODID:-//EMAC - Masters Athletics in the East of England - ECPv6.15.20//NONSGML v1.0//EN
CALSCALE:GREGORIAN
METHOD:PUBLISH
X-ORIGINAL-URL:https://emac.org.uk
X-WR-CALDESC:Events for EMAC - Masters Athletics in the East of England
REFRESH-INTERVAL;VALUE=DURATION:PT1H
X-Robots-Tag:noindex
X-PUBLISHED-TTL:PT1H
BEGIN:VTIMEZONE
TZID:UTC
BEGIN:STANDARD
TZOFFSETFROM:+0000
TZOFFSETTO:+0000
TZNAME:UTC
DTSTART:20240101T000000
END:STANDARD
END:VTIMEZONE
BEGIN:VTIMEZONE
TZID:Europe/London
BEGIN:DAYLIGHT
TZOFFSETFROM:+0000
TZOFFSETTO:+0100
TZNAME:BST
DTSTART:20240331T010000
END:DAYLIGHT
BEGIN:STANDARD
TZOFFSETFROM:+0100
TZOFFSETTO:+0000
TZNAME:GMT
DTSTART:20241027T010000
END:STANDARD
BEGIN:DAYLIGHT
TZOFFSETFROM:+0000
TZOFFSETTO:+0100
TZNAME:BST
DTSTART:20250330T010000
END:DAYLIGHT
BEGIN:STANDARD
TZOFFSETFROM:+0100
TZOFFSETTO:+0000
TZNAME:GMT
DTSTART:20251026T010000
END:STANDARD
BEGIN:DAYLIGHT
TZOFFSETFROM:+0000
TZOFFSETTO:+0100
TZNAME:BST
DTSTART:20260329T010000
END:DAYLIGHT
BEGIN:STANDARD
TZOFFSETFROM:+0100
TZOFFSETTO:+0000
TZNAME:GMT
DTSTART:20261025T010000
END:STANDARD
END:VTIMEZONE
BEGIN:VEVENT
DTSTART;TZID=UTC:20250604T190000
DTEND;TZID=UTC:20250604T213000
DTSTAMP:20260423T115211
CREATED:20241121T155414Z
LAST-MODIFIED:20250327T135336Z
UID:10465-1749063600-1749072600@emac.org.uk
SUMMARY:Eastern Masters Track & Field League Match 2 - Central West\, Central East
DESCRIPTION:Central West – Bedford \nCentral East – Cambridge
URL:https://emac.org.uk/emacfixture/eastern-masters-track-filed-league-match-2/
CATEGORIES:EMAC LEAGUE,Track & Field
END:VEVENT
BEGIN:VEVENT
DTSTART;TZID=Europe/London:20250604T190000
DTEND;TZID=Europe/London:20250604T213000
DTSTAMP:20260423T115211
CREATED:20250327T134318Z
LAST-MODIFIED:20250516T153039Z
UID:10856-1749063600-1749072600@emac.org.uk
SUMMARY:Eastern Masters Track & Field League Match 2 - South
DESCRIPTION:South – Grays (Thurrock)
URL:https://emac.org.uk/emacfixture/track-field-league-fixture-2/
LOCATION:Blackshots Athletics Stadium\, Springfield Road\, Grays\, Thurrock\, RM16 2QT
CATEGORIES:EMAC LEAGUE,Track & Field
END:VEVENT
END:VCALENDAR