BEGIN:VCALENDAR
VERSION:2.0
PRODID:-//EMAC - Masters Athletics in the East of England - ECPv6.15.20//NONSGML v1.0//EN
CALSCALE:GREGORIAN
METHOD:PUBLISH
X-WR-CALNAME:EMAC - Masters Athletics in the East of England
X-ORIGINAL-URL:https://emac.org.uk
X-WR-CALDESC:Events for EMAC - Masters Athletics in the East of England
REFRESH-INTERVAL;VALUE=DURATION:PT1H
X-Robots-Tag:noindex
X-PUBLISHED-TTL:PT1H
BEGIN:VTIMEZONE
TZID:Europe/London
BEGIN:DAYLIGHT
TZOFFSETFROM:+0000
TZOFFSETTO:+0100
TZNAME:BST
DTSTART:20240331T010000
END:DAYLIGHT
BEGIN:STANDARD
TZOFFSETFROM:+0100
TZOFFSETTO:+0000
TZNAME:GMT
DTSTART:20241027T010000
END:STANDARD
BEGIN:DAYLIGHT
TZOFFSETFROM:+0000
TZOFFSETTO:+0100
TZNAME:BST
DTSTART:20250330T010000
END:DAYLIGHT
BEGIN:STANDARD
TZOFFSETFROM:+0100
TZOFFSETTO:+0000
TZNAME:GMT
DTSTART:20251026T010000
END:STANDARD
BEGIN:DAYLIGHT
TZOFFSETFROM:+0000
TZOFFSETTO:+0100
TZNAME:BST
DTSTART:20260329T010000
END:DAYLIGHT
BEGIN:STANDARD
TZOFFSETFROM:+0100
TZOFFSETTO:+0000
TZNAME:GMT
DTSTART:20261025T010000
END:STANDARD
END:VTIMEZONE
BEGIN:VEVENT
DTSTART;TZID=Europe/London:20250801T190000
DTEND;TZID=Europe/London:20250801T213000
DTSTAMP:20260425T113708
CREATED:20250327T135212Z
LAST-MODIFIED:20250327T151855Z
UID:10871-1754074800-1754083800@emac.org.uk
SUMMARY:Eastern Masters Track & Field League Match 4 - South
DESCRIPTION:South – Colchester
URL:https://emac.org.uk/emacfixture/eastern-masters-track-field-league-match-4-south/
CATEGORIES:EMAC LEAGUE,Track & Field
END:VEVENT
END:VCALENDAR