BEGIN:VCALENDAR
VERSION:2.0
PRODID:-//EMAC - Masters Athletics in the East of England - ECPv6.15.20//NONSGML v1.0//EN
CALSCALE:GREGORIAN
METHOD:PUBLISH
X-WR-CALNAME:EMAC - Masters Athletics in the East of England
X-ORIGINAL-URL:https://emac.org.uk
X-WR-CALDESC:Events for EMAC - Masters Athletics in the East of England
REFRESH-INTERVAL;VALUE=DURATION:PT1H
X-Robots-Tag:noindex
X-PUBLISHED-TTL:PT1H
BEGIN:VTIMEZONE
TZID:UTC
BEGIN:STANDARD
TZOFFSETFROM:+0000
TZOFFSETTO:+0000
TZNAME:UTC
DTSTART:20240101T000000
END:STANDARD
END:VTIMEZONE
BEGIN:VEVENT
DTSTART;TZID=UTC:20250507T190000
DTEND;TZID=UTC:20250507T213000
DTSTAMP:20260419T164606
CREATED:20241121T154815Z
LAST-MODIFIED:20250327T135318Z
UID:10458-1746644400-1746653400@emac.org.uk
SUMMARY:Eastern Masters Track & Field League Match 1
DESCRIPTION:Central West – Sandy \nCentral East – Kings Lynn \nSouth – Chelmsford
URL:https://emac.org.uk/emacfixture/eastern-masters-track-field-league-match-1/
CATEGORIES:EMAC LEAGUE,Track & Field
END:VEVENT
END:VCALENDAR