BEGIN:VCALENDAR
VERSION:2.0
PRODID:-//EMAC - Masters Athletics in the East of England - ECPv6.15.20//NONSGML v1.0//EN
CALSCALE:GREGORIAN
METHOD:PUBLISH
X-ORIGINAL-URL:https://emac.org.uk
X-WR-CALDESC:Events for EMAC - Masters Athletics in the East of England
REFRESH-INTERVAL;VALUE=DURATION:PT1H
X-Robots-Tag:noindex
X-PUBLISHED-TTL:PT1H
BEGIN:VTIMEZONE
TZID:Europe/London
BEGIN:DAYLIGHT
TZOFFSETFROM:+0000
TZOFFSETTO:+0100
TZNAME:BST
DTSTART:20250330T010000
END:DAYLIGHT
BEGIN:STANDARD
TZOFFSETFROM:+0100
TZOFFSETTO:+0000
TZNAME:GMT
DTSTART:20251026T010000
END:STANDARD
BEGIN:DAYLIGHT
TZOFFSETFROM:+0000
TZOFFSETTO:+0100
TZNAME:BST
DTSTART:20260329T010000
END:DAYLIGHT
BEGIN:STANDARD
TZOFFSETFROM:+0100
TZOFFSETTO:+0000
TZNAME:GMT
DTSTART:20261025T010000
END:STANDARD
BEGIN:DAYLIGHT
TZOFFSETFROM:+0000
TZOFFSETTO:+0100
TZNAME:BST
DTSTART:20270328T010000
END:DAYLIGHT
BEGIN:STANDARD
TZOFFSETFROM:+0100
TZOFFSETTO:+0000
TZNAME:GMT
DTSTART:20271031T010000
END:STANDARD
END:VTIMEZONE
BEGIN:VEVENT
DTSTART;TZID=Europe/London:20260603T190000
DTEND;TZID=Europe/London:20260603T213000
DTSTAMP:20260424T122729
CREATED:20260126T170921Z
LAST-MODIFIED:20260206T162123Z
UID:11347-1780513200-1780522200@emac.org.uk
SUMMARY:EMAC Track & Field League Round 2
DESCRIPTION:Three divisions dates may vary \, three venues more details later. \nWest – Bedford
URL:https://emac.org.uk/emacfixture/emac-track-field-league-round-2/
END:VEVENT
BEGIN:VEVENT
DTSTART;TZID=Europe/London:20260607T080000
DTEND;TZID=Europe/London:20260607T170000
DTSTAMP:20260424T122729
CREATED:20260209T161651Z
LAST-MODIFIED:20260209T161651Z
UID:11375-1780819200-1780851600@emac.org.uk
SUMMARY:BMAF Half Marathon\, Swansea
DESCRIPTION:Advance notice not yet confirmed
URL:https://emac.org.uk/emacfixture/bmaf-half-marathon-swansea/
LOCATION:Swansea
END:VEVENT
BEGIN:VEVENT
DTSTART;TZID=Europe/London:20260614T100000
DTEND;TZID=Europe/London:20260614T170000
DTSTAMP:20260424T122729
CREATED:20260406T154941Z
LAST-MODIFIED:20260417T081505Z
UID:11977-1781431200-1781456400@emac.org.uk
SUMMARY:Eastern Masters AC Track & Field Championships
DESCRIPTION:With thanks to our friends at Biggleswade AC our Summer Track & Field Champs will be held at Sandy Track on Sunday 14th June. \nEntries are now open. \nClick here to enter
URL:https://emac.org.uk/emacfixture/eastern-masters-ac-track-field-championships/
LOCATION:Sandy Athletics Track\, Medusa Way\, Sandy\, SG19 1BL\, United Kingdom
END:VEVENT
BEGIN:VEVENT
DTSTART;TZID=Europe/London:20260628T080000
DTEND;TZID=Europe/London:20260628T170000
DTSTAMP:20260424T122729
CREATED:20260126T170525Z
LAST-MODIFIED:20260126T170605Z
UID:11340-1782633600-1782666000@emac.org.uk
SUMMARY:British Masters 30k Multi-Terrain Championships
DESCRIPTION:Event Details
URL:https://emac.org.uk/emacfixture/british-masters-30k-multi-terrain-championships/
LOCATION:The Tollgate\, Gravesend\, DA11 7NP
END:VEVENT
END:VCALENDAR