BEGIN:VCALENDAR
VERSION:2.0
PRODID:-//EMAC - Masters Athletics in the East of England - ECPv6.15.20//NONSGML v1.0//EN
CALSCALE:GREGORIAN
METHOD:PUBLISH
X-ORIGINAL-URL:https://emac.org.uk
X-WR-CALDESC:Events for EMAC - Masters Athletics in the East of England
REFRESH-INTERVAL;VALUE=DURATION:PT1H
X-Robots-Tag:noindex
X-PUBLISHED-TTL:PT1H
BEGIN:VTIMEZONE
TZID:Europe/London
BEGIN:DAYLIGHT
TZOFFSETFROM:+0000
TZOFFSETTO:+0100
TZNAME:BST
DTSTART:20250330T010000
END:DAYLIGHT
BEGIN:STANDARD
TZOFFSETFROM:+0100
TZOFFSETTO:+0000
TZNAME:GMT
DTSTART:20251026T010000
END:STANDARD
BEGIN:DAYLIGHT
TZOFFSETFROM:+0000
TZOFFSETTO:+0100
TZNAME:BST
DTSTART:20260329T010000
END:DAYLIGHT
BEGIN:STANDARD
TZOFFSETFROM:+0100
TZOFFSETTO:+0000
TZNAME:GMT
DTSTART:20261025T010000
END:STANDARD
BEGIN:DAYLIGHT
TZOFFSETFROM:+0000
TZOFFSETTO:+0100
TZNAME:BST
DTSTART:20270328T010000
END:DAYLIGHT
BEGIN:STANDARD
TZOFFSETFROM:+0100
TZOFFSETTO:+0000
TZNAME:GMT
DTSTART:20271031T010000
END:STANDARD
END:VTIMEZONE
BEGIN:VEVENT
DTSTART;TZID=Europe/London:20260701T190000
DTEND;TZID=Europe/London:20260701T213000
DTSTAMP:20260422T132224
CREATED:20260126T171031Z
LAST-MODIFIED:20260206T162054Z
UID:11350-1782932400-1782941400@emac.org.uk
SUMMARY:EMAC Track & Field League Round 3
DESCRIPTION:Three divisions date may vary\, three venues\, more details later. \nWest – Sandy
URL:https://emac.org.uk/emacfixture/emac-track-field-league-round-3/
END:VEVENT
BEGIN:VEVENT
DTSTART;TZID=Europe/London:20260729T190000
DTEND;TZID=Europe/London:20260729T213000
DTSTAMP:20260422T132224
CREATED:20260126T171129Z
LAST-MODIFIED:20260206T161957Z
UID:11352-1785351600-1785360600@emac.org.uk
SUMMARY:EMAC Track & Field League Round 4
DESCRIPTION:Three divisions date may vary\, three venues\, more details later \nWest – Stantonbury\, Milton Keynes
URL:https://emac.org.uk/emacfixture/emac-track-field-league-round-4/
END:VEVENT
END:VCALENDAR